BEGIN:VCALENDAR
VERSION:2.0
PRODID:icalendar-ruby
CALSCALE:GREGORIAN
METHOD:PUBLISH
BEGIN:VEVENT
DTSTAMP:20260423T151405Z
UID:53-1053342@stmarksmidlo.com
DTSTART:20260516T130000Z
DTEND:20260516T180000Z
CLASS:PUBLIC
CREATED:20260415T115714
DESCRIPTION:Come find some new treasures and yummy treats at the JOY Group 
 yard and bake sale. All proceeds will benefit our JOY Group and Congregati
 onal Care ministries. If you would like to donate items or baked goods\, p
 lease bring them to the church on May 15th priced and ready to go. We appr
 eciate everyone who wants to donate\, but due to storage limitations\, we 
 cannot accept donations until May 15th.
LAST-MODIFIED:20260415T115714
LOCATION:
SUMMARY:Joy Group Yard Sale
URL;VALUE=URI:https://stmarksmidlo.com/events/joy-group-yard-sale--53/2026-
 05-16
ATTACH;FILENAME=yard-sale.jpg;FMTTYPE=image/jpeg:https://dq5pwpg1q8ru0.clou
 dfront.net/2026/04/15/15/57/14/1047819e-91d4-45bc-ab7a-c3a4172f3d8e/yard-s
 ale.jpg
END:VEVENT
END:VCALENDAR
