BEGIN:VCALENDAR
VERSION:2.0
PRODID:icalendar-ruby
CALSCALE:GREGORIAN
METHOD:PUBLISH
BEGIN:VEVENT
DTSTAMP:20260423T162942Z
UID:56-1053345@stmarksmidlo.com
DTSTART:20260607T180000Z
DTEND:20260607T200000Z
CLASS:PUBLIC
CREATED:20260415T121244
DESCRIPTION:All ages are invited to our Annual Mini Golf Tournament at Wind
 y Hill Sports Complex. We will randomly select teams to keep things fair. 
 This is a fun event for all who attend and there will be prizes for the to
 p 3 teams. To register please click HERE or email Katie West.
LAST-MODIFIED:20260415T121244
LOCATION:
SUMMARY:Mini Golf Tournamet
URL;VALUE=URI:https://stmarksmidlo.com/events/mini-golf-tournamet/2026-06-0
 7
ATTACH;FILENAME=Golf.jpg;FMTTYPE=image/jpeg:https://dq5pwpg1q8ru0.cloudfron
 t.net/2026/04/15/16/12/44/ed293197-e119-43b2-8d32-6f51b73364a8/Golf.jpg
END:VEVENT
END:VCALENDAR
