BEGIN:VCALENDAR
VERSION:2.0
PRODID:icalendar-ruby
CALSCALE:GREGORIAN
METHOD:PUBLISH
BEGIN:VEVENT
DTSTAMP:20260423T151104Z
UID:51-1053340@stmarksmidlo.com
DTSTART:20260506T213000Z
DTEND:20260506T223000Z
CLASS:PUBLIC
CREATED:20260415T115038
DESCRIPTION:Join us for a dinner hosted by FACES. The cost is $10 for adult
 s and $5 for kids. Please RSVP HERE\, or by calling the front office.
LAST-MODIFIED:20260415T115038
LOCATION:
SUMMARY:Mission Dinner
URL;VALUE=URI:https://stmarksmidlo.com/events/mission-dinner/2026-05-06
ATTACH;FILENAME=Mission-Dinner.png;FMTTYPE=image/png:https://dq5pwpg1q8ru0.
 cloudfront.net/2026/04/15/15/50/38/eca01f59-835a-4755-af1a-fa41af58d0c2/Mi
 ssion-Dinner.png
END:VEVENT
END:VCALENDAR
