BEGIN:VCALENDAR
VERSION:2.0
PRODID:icalendar-ruby
CALSCALE:GREGORIAN
METHOD:PUBLISH
BEGIN:VEVENT
DTSTAMP:20260423T162824Z
UID:63-1053352@stmarksmidlo.com
DTSTART:20260602T213000Z
DTEND:20260602T233000Z
CLASS:PUBLIC
CREATED:20260415T123017
DESCRIPTION:Do you ever feel like you need a quiet place to pray and reconn
 ect with God? Are you looking for somewhere to take time to reflect on wha
 t God may be saying to you? Do you just need time to talk to God? If so\, 
 please come to Personal Prayer Time from 5:30pm-7:30pm on the first Tuesda
 y of each month. This will not be led by anyone except you. Come when you 
 can\, and stay as long as you need. 
LAST-MODIFIED:20260415T123017
LOCATION:
SUMMARY:Personal Prayer Time
URL;VALUE=URI:https://stmarksmidlo.com/events/personal-prayer-time--63/2026
 -06-02
ATTACH;FILENAME=prayer-hands.jpg;FMTTYPE=image/jpeg:https://dq5pwpg1q8ru0.c
 loudfront.net/2026/04/15/16/30/17/a0ee79a0-1431-49bf-b468-600d20722c8b/pra
 yer-hands.jpg
END:VEVENT
END:VCALENDAR
