BEGIN:VCALENDAR
VERSION:2.0
PRODID:icalendar-ruby
CALSCALE:GREGORIAN
METHOD:PUBLISH
BEGIN:VEVENT
DTSTAMP:20260423T151239Z
UID:62-1053351@stmarksmidlo.com
DTSTART:20260505T213000Z
DTEND:20260505T233000Z
CLASS:PUBLIC
CREATED:20260415T122923
DESCRIPTION:Do you ever feel like you need a quiet place to pray and reconn
 ect with God? Are you looking for somewhere to take time to reflect on wha
 t God may be saying to you? Do you just need time to talk to God? If so\, 
 please come to Personal Prayer Time from 5:30pm-7:30pm on the first Tuesda
 y of each month. This will not be led by anyone except you. Come when you 
 can\, and stay as long as you need. 
LAST-MODIFIED:20260415T122923
LOCATION:
SUMMARY:Personal Prayer Time
URL;VALUE=URI:https://stmarksmidlo.com/events/personal-prayer-time/2026-05-
 05
ATTACH;FILENAME=prayer-hands.jpg;FMTTYPE=image/jpeg:https://dq5pwpg1q8ru0.c
 loudfront.net/2026/04/15/16/29/23/0b8e37f0-54ce-4bcc-a611-147769a9dff8/pra
 yer-hands.jpg
END:VEVENT
END:VCALENDAR
