BEGIN:VCALENDAR
VERSION:2.0
PRODID:icalendar-ruby
CALSCALE:GREGORIAN
METHOD:PUBLISH
BEGIN:VEVENT
DTSTAMP:20260423T150806Z
UID:58-1053347@stmarksmidlo.com
DTSTART:20260517T113000Z
DTEND:20260517T123000Z
CLASS:PUBLIC
CREATED:20260415T121630
DESCRIPTION:All men are invited to the monthly United Methodist Men's break
 fast. We will have a delicious breakfast\, guest speaker\, and a time of f
 ellowship and prayer. If you would like more information please contact Ti
 m Setiz.
LAST-MODIFIED:20260415T121630
LOCATION:
SUMMARY:UMM Breakfast
URL;VALUE=URI:https://stmarksmidlo.com/events/umm-breakfast--58/2026-05-17
ATTACH;FILENAME=breakfast.jpg;FMTTYPE=image/jpeg:https://dq5pwpg1q8ru0.clou
 dfront.net/2026/04/15/16/16/30/94698223-b28e-44ac-be0b-5b2998d70533/breakf
 ast.jpg
END:VEVENT
END:VCALENDAR
