BEGIN:VCALENDAR
VERSION:2.0
PRODID:icalendar-ruby
CALSCALE:GREGORIAN
METHOD:PUBLISH
BEGIN:VEVENT
DTSTAMP:20260423T162635Z
UID:66-1053355@stmarksmidlo.com
DTSTART:20260816T113000Z
DTEND:20260816T123000Z
CLASS:PUBLIC
CREATED:20260415T123509
DESCRIPTION:Do you ever feel like you need a quiet place to pray and reconn
 ect with God? Are you looking for somewhere to take time to reflect on wha
 t God may be saying to you? Do you just need time to talk to God? If so\, 
 please come to Personal Prayer Time from 5:30pm-7:30pm on the first Tuesda
 y of each month. This will not be led by anyone except you. Come when you 
 can\, and stay as long as you need. 
LAST-MODIFIED:20260415T123509
LOCATION:
SUMMARY:UMM Breakfast
URL;VALUE=URI:https://stmarksmidlo.com/events/umm-breakfast--66/2026-08-16
ATTACH;FILENAME=breakfast.jpg;FMTTYPE=image/jpeg:https://dq5pwpg1q8ru0.clou
 dfront.net/2026/04/15/16/35/09/d2cf7beb-8ba8-4324-a4f1-167727ef839e/breakf
 ast.jpg
END:VEVENT
END:VCALENDAR
