BEGIN:VCALENDAR
VERSION:2.0
PRODID:icalendar-ruby
CALSCALE:GREGORIAN
METHOD:PUBLISH
BEGIN:VEVENT
DTSTAMP:20260423T151120Z
UID:54-1053343@stmarksmidlo.com
DTSTART:20260520T213000Z
DTEND:20260520T223000Z
CLASS:PUBLIC
CREATED:20260415T115951
DESCRIPTION:The United Methodist Men are hitting the grill to cook a yummy 
 dinner to celebrate the end of our program year. Join us at 5:30!
LAST-MODIFIED:20260415T115951
LOCATION:
SUMMARY:UMM Cookout End of Year Cookout
URL;VALUE=URI:https://stmarksmidlo.com/events/umm-cookout-end-of-year-cooko
 ut/2026-05-20
ATTACH;FILENAME=grill.jpg;FMTTYPE=image/jpeg:https://dq5pwpg1q8ru0.cloudfro
 nt.net/2026/04/15/15/59/51/fba01089-df28-4cde-b400-f2545c114116/grill.jpg
END:VEVENT
END:VCALENDAR
