BEGIN:VCALENDAR
VERSION:2.0
PRODID:icalendar-ruby
CALSCALE:GREGORIAN
METHOD:PUBLISH
BEGIN:VEVENT
DTSTAMP:20260423T151126Z
UID:52-1053341@stmarksmidlo.com
DTSTART:20260509T200000Z
DTEND:20260509T220000Z
CLASS:PUBLIC
CREATED:20260415T115329
DESCRIPTION:Our Young-ish Adults group will be meeting at CoCo &amp\; Hazel
  in Bon Air for some sweet treats and fun conversations. Kids are welcome 
 and you do not have to be a member of St. Mark's to join us. Please contac
 t Pastor Rachel if you would like more information.
LAST-MODIFIED:20260415T115329
LOCATION:
SUMMARY:Young-ish Adult Gathering
URL;VALUE=URI:https://stmarksmidlo.com/events/young-ish-adult-gathering--52
 /2026-05-09
ATTACH;FILENAME=Milkshake.jpg;FMTTYPE=image/jpeg:https://dq5pwpg1q8ru0.clou
 dfront.net/2026/04/15/15/53/29/ee1075bf-394a-479b-ace6-1471f34cbb3c/Milksh
 ake.jpg
END:VEVENT
END:VCALENDAR
